BEGIN:VCALENDAR
VERSION:2.0
PRODID:-//eventon.com NONSGML v1.0//EN
BEGIN:VEVENT
UID:69ed7b6f2a6d8
DTSTAMP:20260426T024151
DTSTART:20211126T000000Z
DTEND:20211126T000000Z
LOCATION:
SUMMARY:International Video Conference
DESCRIPTION: This upcoming Friday 26th of November THUAS students (HRM\,  FM\,  BK\,  ES\,  COM\,  CMD & exchage students from Barcelona) will be presenting their case studies in an international Virtual Conference\,  GCSC2021\,  as part of the minor Exploring Leader-shift. Would you like to get a glimpse of this Conference\,  check the[..]
URL:https://www.globaloffice.nu/events/international-video-conference/
END:VEVENT
END:VCALENDAR