BEGIN:VCALENDAR
VERSION:2.0
PRODID:-//eventon.com NONSGML v1.0//EN
BEGIN:VEVENT
UID:69e809fa8aa8b
DTSTAMP:20260421T233626
DTSTART:20211207T180000Z
DTEND:20211207T190000Z
LOCATION:
SUMMARY:Italy study abroad information session
DESCRIPTION: COM/ICM - physical/OV2.02 Country tutor: Claudia Diers Lieke
URL:https://www.globaloffice.nu/events/italy-study-abroad-information-session/
END:VEVENT
END:VCALENDAR