BEGIN:VCALENDAR
VERSION:2.0
PRODID:-//eventon.com NONSGML v1.0//EN
BEGIN:VEVENT
UID:69ea75275384e
DTSTAMP:20260423T193815
DTSTART:20220127T000000Z
DTEND:20220130T235900Z
LOCATION:
SUMMARY:Hybrid conference: Decentering Mobility in Intercultural Education: Engagement\,  Equity\,  and Access
DESCRIPTION: The eighth iteration of this event in 2022 will focus on the ways in which intercultural communication\,  and the teaching and learning thereof\,  have been shaped through mobility – both virtual and physical. For more information: View online version
URL:https://www.globaloffice.nu/events/hybrid-conference-decentering-mobility-in-intercultural-education-engagement-equity-and-access/
END:VEVENT
END:VCALENDAR