BEGIN:VCALENDAR
VERSION:2.0
PRODID:-//eventon.com NONSGML v1.0//EN
BEGIN:VEVENT
UID:69e9538489905
DTSTAMP:20260422T230228
DTSTART:20220420T140000Z
DTEND:20220420T173000Z
LOCATION:
SUMMARY:The EAIE Academy: Training on summer school and short-term programmes
DESCRIPTION: Getting the best out of your summer school and short-term programmes: Eager to learn how to deal with the market challenges of international summer schools and short-term programmes? This course will help you maximise the value of both while putting students first in planning and implementation. EAIE members €95\,  non-members €175[..]
URL:https://www.globaloffice.nu/events/getting-the-best-out-of-your-summer-school-and-short-term-programmes/
END:VEVENT
END:VCALENDAR